BEGIN:VCALENDAR
VERSION:2.0
PRODID:SchoolNow
CALSCALE:GREGORIAN
BEGIN:VEVENT
UID:39e0842a-f9d8-11ea-ad9a-0a5054a37523
DTSTAMP:20210625T050422Z
SUMMARY:CDD Board Meeting - Jul. 2021
LOCATION:Club Bonterra\, located at 9501 West 35th Court\, Hialeah\, Florid
 a / https://us02web.zoom.us/j/89673273382?pwd=c2FUazdIRmxMbFczUTNyYTliVkxC
 Zz09 or Teleconference: Dial 1-646-558 -8656 Meeting ID: 896 7327 3382 Pas
 scode: 525947
URL;VALUE=URI:https://www.bonterracdd.com/calendar/2364837/cdd-board-meetin
 g-jul-2021
DTSTART:20210701T220000Z
DTEND:20210701T230000Z
ATTACH;FILENAME=2021-07-01 Bonterra CDD Agenda.pdf;FMTTYPE=application/pdf:
 https://campussuite-storage.s3.amazonaws.com/prod/1559014/3c6a6e82-63ff-11
 ea-881a-124c82c43cfb/2284384/b28fdfc6-d572-11eb-8f82-0e7f31c4a729/file/202
 1-07-01 Bonterra CDD Agenda.pdf
END:VEVENT
END:VCALENDAR
