BEGIN:VCALENDAR
VERSION:2.0
PRODID:SchoolNow
CALSCALE:GREGORIAN
BEGIN:VEVENT
UID:53beca7e-6ab7-11ef-8694-0a58a9feac02
DTSTAMP:20250602T130341Z
SUMMARY:CDD Board Meeting - Jun. 2025
LOCATION:Club Bonterra\, located at 9501 West 35th Court\, Hialeah\, Florid
 a.
URL;VALUE=URI:https://www.bonterracdd.com/calendar/6521141/cdd-board-meetin
 g-jun-2025
DTSTART:20250605T220000Z
DTEND:20250605T230000Z
ATTACH;FILENAME=2025-06-05 Bonterra Agenda  KB Revised.pdf;FMTTYPE=applicat
 ion/pdf:https://campussuite-storage.s3.amazonaws.com/prod/1559014/3c6a6e82
 -63ff-11ea-881a-124c82c43cfb/2962681/fe72c54a-3fb1-11f0-85b9-0a58a9feac02/
 file/2025-06-05 Bonterra Agenda  KB Revised.pdf
END:VEVENT
END:VCALENDAR
