BEGIN:VCALENDAR
VERSION:2.0
PRODID:SchoolNow
CALSCALE:GREGORIAN
BEGIN:VEVENT
UID:5ed441dc-6ab7-11ef-8652-0a58a9feac02
DTSTAMP:20250703T170456Z
SUMMARY:CDD Board Meeting - Jul. 2025 - Cancelled
LOCATION:Club Bonterra\, located at 9501 West 35th Court\, Hialeah\, Florid
 a.
URL;VALUE=URI:https://www.bonterracdd.com/calendar/6521142/cdd-board-meetin
 g-jul-2025
DTSTART:20250710T220000Z
DTEND:20250710T230000Z
END:VEVENT
END:VCALENDAR
